BEGIN:VCALENDAR
VERSION:2.0
PRODID:-//Andar360 v1.0//EN
BEGIN:VEVENT
UID:ericc@andar360.com
DTSTAMP:20260420T111237Z
DTSTART:20050101T050000Z
SUMMARY:Dispute Resolution Services, Volunteer Mediator
DESCRIPTION:Opportunity: Dispute Resolution Services, Volunteer Mediator\nA
 gency: Gryphon Place\n\nDRS Volunteers provide Mediation services to person
 s or groups in conflict. The primary model is Facilitative Mediation which 
 is very neutral and is focused on developing agreements that the parties ca
 n live with. Dispute Resolution Services offers periodic training opportuni
 ties for people wanting to learn mediation and a variety of other conflict 
 resolution skills. Our basic training for facilitative mediators is in the 
 B.A.D.G.E.R. model, and follows the established guidelines of the State Cou
 rt Administrative Office of the Michigan Supreme Court. It consists of 40 h
 ours of instruction and experiential exercises, followed by observation of 
 mediation sessions, a supervised mediation internship, and the potential op
 portunity to serve as a volunteer mediator at our center. We also offer spe
 cial trainings from time to time in Community Conferencing and other techni
 ques for managing and transforming conflict.\n\nOpportunity Type: Individua
 l\nLength of Type: Part Time\nRequired: All potential volunteers must posse
 ss a Bachelor's degree in one of the social services or in criminal justice
 .\nSupplied: Training in negotiation techniques.
X-ALT-DESC;FMTTYPE=text/html:Opportunity: Dispute Resolution Services, Volu
 nteer Mediator<br>Agency: <a href="https://customercare2.andar360.com/Volun
 teer/VolAgencyInfo.jsp?nbr=7179">Gryphon Place</a><p>DRS Volunteers provide
  Mediation services to persons or groups in conflict. The primary model is 
 Facilitative Mediation which is very neutral and is focused on developing a
 greements that the parties can live with. Dispute Resolution Services offer
 s periodic training opportunities for people wanting to learn mediation and
  a variety of other conflict resolution skills. Our basic training for faci
 litative mediators is in the B.A.D.G.E.R. model, and follows the establishe
 d guidelines of the State Court Administrative Office of the Michigan Supre
 me Court. It consists of 40 hours of instruction and experiential exercises
 , followed by observation of mediation sessions, a supervised mediation int
 ernship, and the potential opportunity to serve as a volunteer mediator at 
 our center. We also offer special trainings from time to time in Community 
 Conferencing and other techniques for managing and transforming conflict.<p
 >Opportunity Type: Individual<br>Length of Type: Part Time<br>Required: All
  potential volunteers must possess a Bachelor's degree in one of the social
  services or in criminal justice.<br>Supplied: Training in negotiation tech
 niques.
END:VEVENT
END:VCALENDAR