BEGIN:VCALENDAR
VERSION:2.0
PRODID:-//Andar360 v1.0//EN
BEGIN:VEVENT
UID:CPalmer@demo.andar360.com
DTSTAMP:20260420T124449Z
DTSTART:
SUMMARY:Single Parent Mentoring Services
DESCRIPTION:Opportunity: Single Parent Mentoring Services\nAgency: Children
 's Social Services\n\nVolunteers will teach a 1 Hour class each week on pos
 itive role modeling for single parents. Course curriculum will be provided 
 by CSS. Committment is 1 class per week for 1 year.\n\nOpportunity Type: In
 dividual\nLength of Type: Part Time
X-ALT-DESC;FMTTYPE=text/html:Opportunity: Single Parent Mentoring Services<
 br>Agency: <a href="https://customercare2.andar360.com/Volunteer/VolAgencyI
 nfo.jsp?nbr=3152">Children's Social Services</a><p>Volunteers will teach a 
 1 Hour class each week on positive role modeling for single parents.  Cours
 e curriculum will be provided by CSS.  Committment is 1 class per week for 
 1 year.<p>Opportunity Type: Individual<br>Length of Type: Part Time
END:VEVENT
END:VCALENDAR