BEGIN:VCALENDAR
VERSION:2.0
PRODID:-//Andar360 v1.0//EN
BEGIN:VEVENT
UID:PNeilson@demo.andar360.com
DTSTAMP:20260420T124557Z
DTSTART:
SUMMARY:Family Mentoring Program
DESCRIPTION:Opportunity: Family Mentoring Program\nAgency: Children's Socia
 l Services\n\nChild and Family Services exist to protect and support childr
 en and to encourage families to be strong and healthy. Voluntary Support Se
 rvices Agreements are meant to help your family when there is no other help
  available from family, friends or other community services.\n\nChild and F
 amily Services Committees assist the Government of in making decisions abou
 t children and families. They work together with Child Protection Workers, 
 children and families facing child protection issues. Volunteers for this p
 rogram will mentor children and families - particularly in the areas of edu
 cation and financial stability.\n\nInformation for Young People is availabl
 e to help young people understand their rights and the services they may ac
 cess.\n\nChildren in the NWT are protected through the Child and Family Ser
 vices Act. The following brochures provide more information about child pro
 tection:\n\nOpportunity Type: Individual\nLength of Type: Part Time
X-ALT-DESC;FMTTYPE=text/html:Opportunity: Family Mentoring Program<br>Agenc
 y: <a href="https://customercare2.andar360.com/Volunteer/VolAgencyInfo.jsp?
 nbr=3152">Children's Social Services</a><p>Child and Family Services exist 
 to protect and support children and to encourage families to be strong and 
 healthy. Voluntary Support Services Agreements are meant to help your famil
 y when there is no other help available from family, friends or other commu
 nity services.<p>Child and Family Services Committees assist the Government
  of in making decisions about children and families. They work together wit
 h Child Protection Workers, children and families facing child protection i
 ssues.  Volunteers for this program will mentor children and families - par
 ticularly in the areas of education and financial stability.<p>Information 
 for Young People is available to help young people understand their rights 
 and the services they may access.<p>Children in the NWT are protected throu
 gh the Child and Family Services Act. The following brochures provide more 
 information about child protection:<p>Opportunity Type: Individual<br>Lengt
 h of Type: Part Time
END:VEVENT
END:VCALENDAR