BEGIN:VCALENDAR
VERSION:2.0
PRODID:-//Andar360 v1.0//EN
BEGIN:VEVENT
UID:uid1@example.com
DTSTAMP:20260420T104916Z
DTSTART:
SUMMARY:Adult Day Care Activites Volunteer
DESCRIPTION:Opportunity: Adult Day Care Activites Volunteer\nAgency: Family
  Counselling Center\n\nYou have come to the right place! CareTree Adult Day
  Services is looking for volunteers to assist participants with activities 
 such as: reading, music, playing table games, drawing, brain-teaser games, 
 and various types of discussions. \n\nVolunteers with specific interests ma
 y choose to assist or lead with regularly scheduled groups such as: crafts,
  woodworking, knitting, music, gardening/horticulture and cultural events. 
 \n\nPersons who enjoy working with older adults. There are no specific trai
 ning requirements and no limitations on who may volunteer for this opportun
 ity\n\nOpportunity Type: Individual\nLength of Type: Part Time
X-ALT-DESC;FMTTYPE=text/html:Opportunity: Adult Day Care Activites Voluntee
 r<br>Agency: <a href="https://customercare2.andar360.com/Volunteer/VolAgenc
 yInfo.jsp?nbr=7757">Family Counselling Center</a><p>You have come to the ri
 ght place! CareTree Adult Day Services is looking for volunteers to assist 
 participants with activities such as: reading, music, playing table games, 
 drawing, brain-teaser games, and various types of discussions. <p>Volunteer
 s with specific interests may choose to assist or lead with regularly sched
 uled groups such as: crafts, woodworking, knitting, music, gardening/hortic
 ulture and cultural events. <p><br>Persons who enjoy working with older adu
 lts. There are no specific training requirements and no limitations on who 
 may volunteer for this opportunity<p>Opportunity Type: Individual<br>Length
  of Type: Part Time
END:VEVENT
END:VCALENDAR