BEGIN:VCALENDAR
VERSION:2.0
PRODID:-//Andar360 v1.0//EN
BEGIN:VEVENT
UID:uid1@example.com
DTSTAMP:20260420T105811Z
DTSTART:
SUMMARY:HIV Educator
DESCRIPTION:Opportunity: HIV Educator\nAgency: HIV/AIDS Case Management\n\n
 This position requires a minimum of a one year commitment. We?ll train you 
 to make HIV presentations in the community. You never know where you could 
 be asked to present! Sometimes it?s at schools, community centers or other 
 nonprofits.\n\nThis is a great opportunity for someone who enjoys public sp
 eaking, has a good attention to detail and is comfortable talking about sex
 uality.\n\nOpportunity Type: Individual\nLength of Type: Full Time
X-ALT-DESC;FMTTYPE=text/html:Opportunity: HIV Educator<br>Agency: <a href="
 https://customercare2.andar360.com/Volunteer/VolAgencyInfo.jsp?nbr=6452">HI
 V/AIDS Case Management</a><p>This position requires a minimum of a one year
  commitment. We?ll train you to make HIV presentations in the community. Yo
 u never know where you could be asked to present! Sometimes it?s at schools
 , community centers or other nonprofits.<p>This is a great opportunity for 
 someone who enjoys public speaking, has a good attention to detail and is c
 omfortable talking about sexuality.<p>Opportunity Type: Individual<br>Lengt
 h of Type: Full Time
END:VEVENT
END:VCALENDAR